BEGIN:VCALENDAR
VERSION:2.0
PRODID:-//Samoset Church Of God - ECPv6.15.20//NONSGML v1.0//EN
CALSCALE:GREGORIAN
METHOD:PUBLISH
X-ORIGINAL-URL:https://samosetcog.com
X-WR-CALDESC:Events for Samoset Church Of God
REFRESH-INTERVAL;VALUE=DURATION:PT1H
X-Robots-Tag:noindex
X-PUBLISHED-TTL:PT1H
BEGIN:VTIMEZONE
TZID:America/New_York
BEGIN:DAYLIGHT
TZOFFSETFROM:-0500
TZOFFSETTO:-0400
TZNAME:EDT
DTSTART:20240310T070000
END:DAYLIGHT
BEGIN:STANDARD
TZOFFSETFROM:-0400
TZOFFSETTO:-0500
TZNAME:EST
DTSTART:20241103T060000
END:STANDARD
BEGIN:DAYLIGHT
TZOFFSETFROM:-0500
TZOFFSETTO:-0400
TZNAME:EDT
DTSTART:20250309T070000
END:DAYLIGHT
BEGIN:STANDARD
TZOFFSETFROM:-0400
TZOFFSETTO:-0500
TZNAME:EST
DTSTART:20251102T060000
END:STANDARD
BEGIN:DAYLIGHT
TZOFFSETFROM:-0500
TZOFFSETTO:-0400
TZNAME:EDT
DTSTART:20260308T070000
END:DAYLIGHT
BEGIN:STANDARD
TZOFFSETFROM:-0400
TZOFFSETTO:-0500
TZNAME:EST
DTSTART:20261101T060000
END:STANDARD
END:VTIMEZONE
BEGIN:VEVENT
DTSTART;TZID=America/New_York:20251218T180000
DTEND;TZID=America/New_York:20251218T233000
DTSTAMP:20260425T192843
CREATED:20251027T185329Z
LAST-MODIFIED:20251027T185329Z
UID:1400-1766080800-1766100600@samosetcog.com
SUMMARY:Christmas Caroling
DESCRIPTION:Christmas Caroling in different communities.
URL:https://samosetcog.com/event/christmas-caroling/
ORGANIZER;CN="Samoset Church Of God":MAILTO:samosetcog@live.com
END:VEVENT
BEGIN:VEVENT
DTSTART;TZID=America/New_York:20251219T180000
DTEND;TZID=America/New_York:20251219T233000
DTSTAMP:20260425T192843
CREATED:20251027T185444Z
LAST-MODIFIED:20251027T185444Z
UID:1402-1766167200-1766187000@samosetcog.com
SUMMARY:Fan the Flame & Christmas Tree Lighting
DESCRIPTION:Bonfire in the back lot and Christmas Tree lighting.
URL:https://samosetcog.com/event/fan-the-flame-christmas-tree-lighting/
ORGANIZER;CN="Samoset Church Of God":MAILTO:samosetcog@live.com
END:VEVENT
BEGIN:VEVENT
DTSTART;TZID=America/New_York:20251223T000000
DTEND;TZID=America/New_York:20251224T233000
DTSTAMP:20260425T192843
CREATED:20251105T191615Z
LAST-MODIFIED:20251105T191615Z
UID:1417-1766448000-1766619000@samosetcog.com
SUMMARY:NO SERVICE
DESCRIPTION:No Services will be held\, due to the coming Christmas holiday (Holy Day).
URL:https://samosetcog.com/event/no-service-2/
END:VEVENT
BEGIN:VEVENT
DTSTART;VALUE=DATE:20251225
DTEND;VALUE=DATE:20251226
DTSTAMP:20260425T192843
CREATED:20251027T185520Z
LAST-MODIFIED:20251027T185520Z
UID:1404-1766620800-1766707199@samosetcog.com
SUMMARY:Christmas
DESCRIPTION:
URL:https://samosetcog.com/event/christmas/
END:VEVENT
BEGIN:VEVENT
DTSTART;VALUE=DATE:20251230
DTEND;VALUE=DATE:20260101
DTSTAMP:20260425T192843
CREATED:20251216T152740Z
LAST-MODIFIED:20251216T152740Z
UID:1434-1767052800-1767225599@samosetcog.com
SUMMARY:NO SERVICE
DESCRIPTION:
URL:https://samosetcog.com/event/no-service-3/
END:VEVENT
END:VCALENDAR