BEGIN:VCALENDAR
VERSION:2.0
PRODID:-//Samoset Church Of God - ECPv6.15.20//NONSGML v1.0//EN
CALSCALE:GREGORIAN
METHOD:PUBLISH
X-WR-CALNAME:Samoset Church Of God
X-ORIGINAL-URL:https://samosetcog.com
X-WR-CALDESC:Events for Samoset Church Of God
REFRESH-INTERVAL;VALUE=DURATION:PT1H
X-Robots-Tag:noindex
X-PUBLISHED-TTL:PT1H
BEGIN:VTIMEZONE
TZID:America/New_York
BEGIN:DAYLIGHT
TZOFFSETFROM:-0500
TZOFFSETTO:-0400
TZNAME:EDT
DTSTART:20240310T070000
END:DAYLIGHT
BEGIN:STANDARD
TZOFFSETFROM:-0400
TZOFFSETTO:-0500
TZNAME:EST
DTSTART:20241103T060000
END:STANDARD
BEGIN:DAYLIGHT
TZOFFSETFROM:-0500
TZOFFSETTO:-0400
TZNAME:EDT
DTSTART:20250309T070000
END:DAYLIGHT
BEGIN:STANDARD
TZOFFSETFROM:-0400
TZOFFSETTO:-0500
TZNAME:EST
DTSTART:20251102T060000
END:STANDARD
BEGIN:DAYLIGHT
TZOFFSETFROM:-0500
TZOFFSETTO:-0400
TZNAME:EDT
DTSTART:20260308T070000
END:DAYLIGHT
BEGIN:STANDARD
TZOFFSETFROM:-0400
TZOFFSETTO:-0500
TZNAME:EST
DTSTART:20261101T060000
END:STANDARD
END:VTIMEZONE
BEGIN:VEVENT
DTSTART;TZID=America/New_York:20251117T190000
DTEND;TZID=America/New_York:20251118T200000
DTSTAMP:20260425T222329
CREATED:20251027T184524Z
LAST-MODIFIED:20251105T185800Z
UID:1386-1763406000-1763496000@samosetcog.com
SUMMARY:Prayer Revival
DESCRIPTION:Come pray for our upcoming Revival with Brother Joe Ganze.
URL:https://samosetcog.com/event/prayer-revival/
ORGANIZER;CN="Samoset Church Of God":MAILTO:samosetcog@live.com
END:VEVENT
BEGIN:VEVENT
DTSTART;TZID=America/New_York:20251116T103000
DTEND;TZID=America/New_York:20251116T120000
DTSTAMP:20260425T222329
CREATED:20251027T184330Z
LAST-MODIFIED:20251027T184405Z
UID:1383-1763289000-1763294400@samosetcog.com
SUMMARY:Thanksgiving Dinner-on-the-Grounds
DESCRIPTION:Please come for our AM Service and stay for Dinner-on-the-Grounds in celebration of Thanksgiving to our Lord and Savior.
URL:https://samosetcog.com/event/thanksgiving-dinner-on-the-grounds/
ORGANIZER;CN="Samoset Church Of God":MAILTO:samosetcog@live.com
END:VEVENT
BEGIN:VEVENT
DTSTART;VALUE=DATE:20251111
DTEND;VALUE=DATE:20251112
DTSTAMP:20260425T222329
CREATED:20251027T184207Z
LAST-MODIFIED:20251027T184207Z
UID:1381-1762819200-1762905599@samosetcog.com
SUMMARY:Veteran's Day
DESCRIPTION:
URL:https://samosetcog.com/event/veterans-day/
END:VEVENT
BEGIN:VEVENT
DTSTART;TZID=America/New_York:20251107T190000
DTEND;TZID=America/New_York:20251107T233000
DTSTAMP:20260425T222329
CREATED:20251027T184057Z
LAST-MODIFIED:20251027T184057Z
UID:1379-1762542000-1762558200@samosetcog.com
SUMMARY:Fan the Flame
DESCRIPTION:Bonfire behind the Church
URL:https://samosetcog.com/event/fan-the-flame/
ORGANIZER;CN="Samoset Church Of God":MAILTO:samosetcog@live.com
END:VEVENT
BEGIN:VEVENT
DTSTART;VALUE=DATE:20251102
DTEND;VALUE=DATE:20251103
DTSTAMP:20260425T222329
CREATED:20251027T185932Z
LAST-MODIFIED:20251027T185932Z
UID:1411-1762041600-1762127999@samosetcog.com
SUMMARY:Daylight Savings Time Ends
DESCRIPTION:
URL:https://samosetcog.com/event/daylight-savings-time-ends/
END:VEVENT
END:VCALENDAR