BEGIN:VCALENDAR
VERSION:2.0
PRODID:-//Samoset Church Of God - ECPv6.15.20//NONSGML v1.0//EN
CALSCALE:GREGORIAN
METHOD:PUBLISH
X-ORIGINAL-URL:https://samosetcog.com
X-WR-CALDESC:Events for Samoset Church Of God
REFRESH-INTERVAL;VALUE=DURATION:PT1H
X-Robots-Tag:noindex
X-PUBLISHED-TTL:PT1H
BEGIN:VTIMEZONE
TZID:America/New_York
BEGIN:DAYLIGHT
TZOFFSETFROM:-0500
TZOFFSETTO:-0400
TZNAME:EDT
DTSTART:20250309T070000
END:DAYLIGHT
BEGIN:STANDARD
TZOFFSETFROM:-0400
TZOFFSETTO:-0500
TZNAME:EST
DTSTART:20251102T060000
END:STANDARD
BEGIN:DAYLIGHT
TZOFFSETFROM:-0500
TZOFFSETTO:-0400
TZNAME:EDT
DTSTART:20260308T070000
END:DAYLIGHT
BEGIN:STANDARD
TZOFFSETFROM:-0400
TZOFFSETTO:-0500
TZNAME:EST
DTSTART:20261101T060000
END:STANDARD
BEGIN:DAYLIGHT
TZOFFSETFROM:-0500
TZOFFSETTO:-0400
TZNAME:EDT
DTSTART:20270314T070000
END:DAYLIGHT
BEGIN:STANDARD
TZOFFSETFROM:-0400
TZOFFSETTO:-0500
TZNAME:EST
DTSTART:20271107T060000
END:STANDARD
END:VTIMEZONE
BEGIN:VEVENT
DTSTART;TZID=America/New_York:20260314T110000
DTEND;TZID=America/New_York:20260314T130000
DTSTAMP:20260425T183324
CREATED:20260204T193026Z
LAST-MODIFIED:20260204T193232Z
UID:1443-1773486000-1773493200@samosetcog.com
SUMMARY:Men's Fellowship Cookout
DESCRIPTION:Iron sharpeneth iron; so a man sharpeneth the countenance of his friend. Proverbs 27:17 \nHamburgers & Hot Dogs – Please bring your favorite side dish!
URL:https://samosetcog.com/event/mens-fellowship-cookout/
END:VEVENT
BEGIN:VEVENT
DTSTART;TZID=America/New_York:20260315T120000
DTEND;TZID=America/New_York:20260315T140000
DTSTAMP:20260425T183324
CREATED:20260204T193938Z
LAST-MODIFIED:20260204T205706Z
UID:1447-1773576000-1773583200@samosetcog.com
SUMMARY:Youth Fund Raiser - Cake Auction
DESCRIPTION:After the AM Service\, we will be having a Cake Auction to raise money for the Youth Fund.
URL:https://samosetcog.com/event/youth-fund-raiser-cake-auction/
END:VEVENT
BEGIN:VEVENT
DTSTART;TZID=America/New_York:20260319T193000
DTEND;TZID=America/New_York:20260319T210000
DTSTAMP:20260425T183324
CREATED:20260210T194403Z
LAST-MODIFIED:20260210T194403Z
UID:1494-1773948600-1773954000@samosetcog.com
SUMMARY:Raiford Youth Conference
DESCRIPTION:Reverend Lamar Chapman and Reverend Joe Ganze ministering. \nDevotionals: \nThurs PM – Landon Bellew
URL:https://samosetcog.com/event/raiford-youth-conference/
END:VEVENT
BEGIN:VEVENT
DTSTART;TZID=America/New_York:20260320T104500
DTEND;TZID=America/New_York:20260320T210000
DTSTAMP:20260425T183324
CREATED:20260210T194516Z
LAST-MODIFIED:20260210T194516Z
UID:1496-1774003500-1774040400@samosetcog.com
SUMMARY:Raiford Youth Conference
DESCRIPTION:Reverend Lamar Chapman and Reverend Joe Ganze ministering. \nFri AM – Enoch Rutledge\nFri PM – Logan McCormack
URL:https://samosetcog.com/event/raiford-youth-conference-2/
END:VEVENT
BEGIN:VEVENT
DTSTART;TZID=America/New_York:20260321T104500
DTEND;TZID=America/New_York:20260321T210000
DTSTAMP:20260425T183324
CREATED:20260210T194809Z
LAST-MODIFIED:20260210T194809Z
UID:1498-1774089900-1774126800@samosetcog.com
SUMMARY:Raiford Youth Conference
DESCRIPTION:Reverend Lamar Chapman and Reverend Joe Ganze ministering. \nDevotionals: \nSat AM – Brodie Wilkerson\nSat PM – Cody Robbins
URL:https://samosetcog.com/event/raiford-youth-conference-3/
END:VEVENT
BEGIN:VEVENT
DTSTART;VALUE=DATE:20260322
DTEND;VALUE=DATE:20260323
DTSTAMP:20260425T183324
CREATED:20260204T194324Z
LAST-MODIFIED:20260204T194324Z
UID:1453-1774137600-1774223999@samosetcog.com
SUMMARY:Rev. Harold Hanks to Minister
DESCRIPTION:Rev. Hanks to minister in both the AM and PM Services.
URL:https://samosetcog.com/event/rev-harold-hanks-to-minister/
END:VEVENT
BEGIN:VEVENT
DTSTART;TZID=America/New_York:20260322T104500
DTEND;TZID=America/New_York:20260322T200000
DTSTAMP:20260425T183324
CREATED:20260210T194947Z
LAST-MODIFIED:20260210T194947Z
UID:1500-1774176300-1774209600@samosetcog.com
SUMMARY:Raiford Youth Conference
DESCRIPTION:Reverend Lamar Chapman and Reverend Joe Ganze ministering. \nDevotional: \nSun AM – Curtis Jones
URL:https://samosetcog.com/event/raiford-youth-conference-4/
END:VEVENT
BEGIN:VEVENT
DTSTART;TZID=America/New_York:20260327T180000
DTEND;TZID=America/New_York:20260327T190000
DTSTAMP:20260425T183324
CREATED:20260204T194231Z
LAST-MODIFIED:20260204T194231Z
UID:1451-1774634400-1774638000@samosetcog.com
SUMMARY:TNT Home Visits
DESCRIPTION:We will be visiting with our TNT members and shut-ins.
URL:https://samosetcog.com/event/tnt-home-visits/
END:VEVENT
BEGIN:VEVENT
DTSTART;TZID=America/New_York:20260329T180000
DTEND;TZID=America/New_York:20260329T200000
DTSTAMP:20260425T183324
CREATED:20260204T194356Z
LAST-MODIFIED:20260204T194356Z
UID:1455-1774807200-1774814400@samosetcog.com
SUMMARY:5th Sunday
DESCRIPTION:
URL:https://samosetcog.com/event/5th-sunday/
END:VEVENT
BEGIN:VEVENT
DTSTART;TZID=America/New_York:20260402T180000
DTEND;TZID=America/New_York:20260402T210000
DTSTAMP:20260425T183324
CREATED:20260325T144137Z
LAST-MODIFIED:20260325T144137Z
UID:1505-1775152800-1775163600@samosetcog.com
SUMMARY:EMPOWER Youth Conference - Myakka City COG
DESCRIPTION:Pre-Service Fellowship\, Vesper Service – Bro Weston Smith\, Main Service – Bro Jon Issacs\, Post-Service Fellowship
URL:https://samosetcog.com/event/empower-youth-conference-myakka-city-cog/
END:VEVENT
BEGIN:VEVENT
DTSTART;TZID=America/New_York:20260403T100000
DTEND;TZID=America/New_York:20260404T210000
DTSTAMP:20260425T183324
CREATED:20260325T144500Z
LAST-MODIFIED:20260325T144500Z
UID:1507-1775210400-1775336400@samosetcog.com
SUMMARY:EMPOWER Youth Conference - Myakka City COG
DESCRIPTION:Pre-Service Fellowship\, Morning Service – Bro Jon Issacs\, Lunch\, Conference Choir Practice\, Pre-Service Fellowship\, Vesper Service – Bro Justin Wilson (Fri) & Bro Curtis Jones (Sat)\, Main Service – Bro Tyler Register\, Post-Service Fellowship
URL:https://samosetcog.com/event/empower-youth-conference-myakka-city-cog-2/
END:VEVENT
BEGIN:VEVENT
DTSTART;TZID=America/New_York:20260405T120000
DTEND;TZID=America/New_York:20260405T123000
DTSTAMP:20260425T183324
CREATED:20260204T194622Z
LAST-MODIFIED:20260325T165323Z
UID:1457-1775390400-1775392200@samosetcog.com
SUMMARY:Youth Fund Raiser - Bake Sale
DESCRIPTION:After the AM Service\, the Youth Group will be hosting a Bake Sale to raise monies for Summer Camp.
URL:https://samosetcog.com/event/youth-fund-raiser-bake-sale/
END:VEVENT
BEGIN:VEVENT
DTSTART;TZID=America/New_York:20260406T190000
DTEND;TZID=America/New_York:20260407T200000
DTSTAMP:20260425T183324
CREATED:20260204T194757Z
LAST-MODIFIED:20260204T194757Z
UID:1460-1775502000-1775592000@samosetcog.com
SUMMARY:Prayer Revival
DESCRIPTION:Please come pray for our upcoming Spring Revival.
URL:https://samosetcog.com/event/prayer-revival-2/
END:VEVENT
BEGIN:VEVENT
DTSTART;TZID=America/New_York:20260410T180000
DTEND;TZID=America/New_York:20260410T210000
DTSTAMP:20260425T183324
CREATED:20260204T210440Z
LAST-MODIFIED:20260325T165126Z
UID:1491-1775844000-1775854800@samosetcog.com
SUMMARY:Ladies Out-to-Eat Night
DESCRIPTION:Please see Sister Katie Coulliette for details.
URL:https://samosetcog.com/event/ladies-out-to-eat-night/
END:VEVENT
BEGIN:VEVENT
DTSTART;TZID=America/New_York:20260411T103000
DTEND;TZID=America/New_York:20260411T120000
DTSTAMP:20260425T183324
CREATED:20260325T144940Z
LAST-MODIFIED:20260325T144940Z
UID:1509-1775903400-1775908800@samosetcog.com
SUMMARY:Bowling Green Ladies Conference
DESCRIPTION:Just Breathe – Devotion by Sis. Rebeccah Caraway; Guest Speaker – Sis. Carol Ann Townsend
URL:https://samosetcog.com/event/bowling-green-ladies-conference/
END:VEVENT
BEGIN:VEVENT
DTSTART;TZID=America/New_York:20260412T193000
DTEND;TZID=America/New_York:20260415T213000
DTSTAMP:20260425T183324
CREATED:20251105T195528Z
LAST-MODIFIED:20260325T165227Z
UID:1425-1776022200-1776288600@samosetcog.com
SUMMARY:Spring Revival
DESCRIPTION:Rev. Gene Luke will be ministering Sunday AM & PM and Monday through Wednesday at 7:30 PM.
URL:https://samosetcog.com/event/spring-revival/
END:VEVENT
BEGIN:VEVENT
DTSTART;TZID=America/New_York:20260416T193000
DTEND;TZID=America/New_York:20260417T213000
DTSTAMP:20260425T183324
CREATED:20260204T194954Z
LAST-MODIFIED:20260204T194954Z
UID:1462-1776367800-1776461400@samosetcog.com
SUMMARY:Spring Revival
DESCRIPTION:Bro. Elijah Higginbotham will be ministering nightly.
URL:https://samosetcog.com/event/spring-revival-2/
END:VEVENT
BEGIN:VEVENT
DTSTART;TZID=America/New_York:20260426T120000
DTEND;TZID=America/New_York:20260426T130000
DTSTAMP:20260425T183324
CREATED:20260204T195245Z
LAST-MODIFIED:20260204T195245Z
UID:1465-1777204800-1777208400@samosetcog.com
SUMMARY:TNT To-Go-Luncheon
DESCRIPTION:After the AM Service.
URL:https://samosetcog.com/event/tnt-to-go-luncheon/
END:VEVENT
BEGIN:VEVENT
DTSTART;TZID=America/New_York:20260501T110000
DTEND;TZID=America/New_York:20260501T130000
DTSTAMP:20260425T183324
CREATED:20260204T195331Z
LAST-MODIFIED:20260204T195331Z
UID:1467-1777633200-1777640400@samosetcog.com
SUMMARY:Building Fund - Fund Raiser
DESCRIPTION:
URL:https://samosetcog.com/event/building-fund-fund-raiser/
END:VEVENT
BEGIN:VEVENT
DTSTART;TZID=America/New_York:20260502T110000
DTEND;TZID=America/New_York:20260502T170000
DTSTAMP:20260425T183324
CREATED:20260204T195521Z
LAST-MODIFIED:20260415T184259Z
UID:1469-1777719600-1777741200@samosetcog.com
SUMMARY:Youth Rally
DESCRIPTION:Brother Weston Smith & Brother Cody Robbins will be ministering. Food & Games afterward.
URL:https://samosetcog.com/event/youth-rally-2/
END:VEVENT
BEGIN:VEVENT
DTSTART;TZID=America/New_York:20260509T110000
DTEND;TZID=America/New_York:20260509T140000
DTSTAMP:20260425T183324
CREATED:20260204T195609Z
LAST-MODIFIED:20260204T195609Z
UID:1471-1778324400-1778335200@samosetcog.com
SUMMARY:Mother-Daughter Brunch
DESCRIPTION:
URL:https://samosetcog.com/event/mother-daughter-brunch/
END:VEVENT
BEGIN:VEVENT
DTSTART;TZID=America/New_York:20260524T120000
DTEND;TZID=America/New_York:20260524T130000
DTSTAMP:20260425T183324
CREATED:20260204T200529Z
LAST-MODIFIED:20260204T200752Z
UID:1473-1779624000-1779627600@samosetcog.com
SUMMARY:Youth Fund Raiser - Meal-to-go
DESCRIPTION:After the AM Service. \nPlease see Sister Dianne Campbell for details.
URL:https://samosetcog.com/event/youth-fund-raiser-meal-to-go/
END:VEVENT
BEGIN:VEVENT
DTSTART;VALUE=DATE:20260531
DTEND;VALUE=DATE:20260606
DTSTAMP:20260425T183324
CREATED:20260204T200845Z
LAST-MODIFIED:20260204T200845Z
UID:1475-1780185600-1780703999@samosetcog.com
SUMMARY:CanaanLand Youth Camp
DESCRIPTION:
URL:https://samosetcog.com/event/canaanland-youth-camp/
END:VEVENT
BEGIN:VEVENT
DTSTART;VALUE=DATE:20260602
DTEND;VALUE=DATE:20260606
DTSTAMP:20260425T183324
CREATED:20260204T202448Z
LAST-MODIFIED:20260204T202448Z
UID:1477-1780358400-1780703999@samosetcog.com
SUMMARY:COG Camp Meeting
DESCRIPTION:NO LOCAL SERVICES 6/2 or 6/3. \n 
URL:https://samosetcog.com/event/cog-camp-meeting/
END:VEVENT
BEGIN:VEVENT
DTSTART;VALUE=DATE:20260608
DTEND;VALUE=DATE:20260613
DTSTAMP:20260425T183324
CREATED:20260204T202556Z
LAST-MODIFIED:20260204T202556Z
UID:1479-1780876800-1781308799@samosetcog.com
SUMMARY:Ecuador Mission Trip
DESCRIPTION:Please see Pastor Coulliette for details.
URL:https://samosetcog.com/event/ecuador-mission-trip/
END:VEVENT
BEGIN:VEVENT
DTSTART;TZID=America/New_York:20260620T110000
DTEND;TZID=America/New_York:20260620T130000
DTSTAMP:20260425T183324
CREATED:20260204T202805Z
LAST-MODIFIED:20260204T202805Z
UID:1481-1781953200-1781960400@samosetcog.com
SUMMARY:Men's Fellowship - Father/Child
DESCRIPTION:Gentlemen\, Please bring your daughters and sons out for this Men’s Fellowship in celebration of Father’s Day.
URL:https://samosetcog.com/event/mens-fellowship-father-child/
END:VEVENT
BEGIN:VEVENT
DTSTART;TZID=America/New_York:20260622T183000
DTEND;TZID=America/New_York:20260626T210000
DTSTAMP:20260425T183324
CREATED:20260204T204200Z
LAST-MODIFIED:20260204T204449Z
UID:1483-1782153000-1782507600@samosetcog.com
SUMMARY:Vacation Bible School
DESCRIPTION:Registration – 6-6:30 PM. \nBeginning at 6:30 PM.
URL:https://samosetcog.com/event/vacation-bible-school/
END:VEVENT
BEGIN:VEVENT
DTSTART;VALUE=DATE:20260628
DTEND;VALUE=DATE:20260629
DTSTAMP:20260425T183324
CREATED:20260204T205439Z
LAST-MODIFIED:20260204T205439Z
UID:1487-1782604800-1782691199@samosetcog.com
SUMMARY:NO PM SERVICE
DESCRIPTION:
URL:https://samosetcog.com/event/no-pm-service/
END:VEVENT
BEGIN:VEVENT
DTSTART;VALUE=DATE:20260719
DTEND;VALUE=DATE:20260720
DTSTAMP:20260425T183324
CREATED:20251105T200246Z
LAST-MODIFIED:20251105T200246Z
UID:1427-1784419200-1784505599@samosetcog.com
SUMMARY:Pastor Appreciation Day
DESCRIPTION:Please be with us to celebrate our Pastor\, Christopher Coulliette\, and family.
URL:https://samosetcog.com/event/pastor-appreciation-day/
END:VEVENT
BEGIN:VEVENT
DTSTART;VALUE=DATE:20260720
DTEND;VALUE=DATE:20260725
DTSTAMP:20260425T183324
CREATED:20251105T200406Z
LAST-MODIFIED:20251105T200406Z
UID:1429-1784505600-1784937599@samosetcog.com
SUMMARY:Bowling Green Camp Meeting
DESCRIPTION:
URL:https://samosetcog.com/event/bowling-green-camp-meeting/
END:VEVENT
END:VCALENDAR